BEGIN:VCALENDAR
VERSION:2.0
PRODID:-//hacksw/handcal//NONSGML v1.0//EN
CALSCALE:GREGORIAN
BEGIN:VEVENT
ORGANIZER;CN=Oculis:MAILTO:no-reply@gcs-web.com
DTEND:
UID:180c35ea-5e13-4403-88e4-a8872008938c
DTSTAMP:1777043095
LOCATION:https://investors.oculis.com/events/event-details/eyecelerator-3
DESCRIPTION:Event Details https://investors.oculis.com/events/event-details/eyecelerator-3
URL;VALUE=URI:https://investors.oculis.com/events/event-details/eyecelerator-3
SUMMARY:Oculis - Eyecelerator
DTSTART:20260501T201400Z
END:VEVENT
END:VCALENDAR